Workbook

Sheet Template
D1: DATE: | F1: PROFILE: | H1: SEASON: | K1: DAY TYPE:
H2: =VLOOKUP(MONTH(D2),H36:I47,2,FALSE) -> JANUARY | K2: =IF(OR(WEEKDAY($D$2)=1,$B$37="Y"),"SUNDAY/HOLIDAY",IF(OR(WEEKDAY($D$2)=2,WEEKDAY($D$2)=3,WEEKDAY($D$2)=4,WEEKDAY($D$2)=5,WEEKDAY($D$2)=6),"WEEKDAY",IF(WEEKDAY($D$2)=7,"SATURDAY",""))) -> SATURDAY
H3: =IF(OR($B$40=1,$B$46=1),VLOOKUP(MONTH(D2),H36:I47,2,FALSE),VLOOKUP(MONTH(D2+1),H36:I47,2,FALSE)) -> JANUARY | K3: =IF(OR($B$40=1,$B$46=1),IF(OR(WEEKDAY($D$2)=1,$B$37="Y"),"SUNDAY/HOLIDAY",IF(OR(WEEKDAY($D$2)=2,WEEKDAY($D$2)=3,WEEKDAY($D$2)=4,WEEKDAY($D$2)=5,WEEKDAY($D$2)=6),"WEEKDAY",IF(WEEKDAY($D$2)=7,"SATURDAY",""))),IF(OR(WEEKDAY($D$2+1)=1,$B$37="Y"),"SUNDAY/HOLIDAY",IF(OR(WEEKDAY($D$2+1)=2,WEEKDAY($D$2+1)=3,WEEKDAY($D$2+1)=4,WEEKDAY($D$2+1)=5,WEEKDAY($D$2+1)=6),"WEEKDAY",IF(WEEKDAY($D$2+1)=7,"SATURDAY","")))) -> SATURDAY
B7: (Eastern Standard Time)
A8: HOUR: | B8: 1 | C8: 2 | D8: 3 | E8: 4 | F8: 5 | G8: 6 | H8: 7 | I8: 8 | J8: 9 | K8: 10 | L8: 11 | M8: 12 | N8: 13 | O8: 14 | P8: 15 | Q8: 16 | R8: 17 | S8: 18 | T8: 19 | U8: 20 | V8: 21 | W8: 22 | X8: 23 | Y8: 24 | AB8: HOLIDAYS: | AD8: PROFILES:
A9: TEMP: | AC9: 39083 | AE9: HV01
AC10: 39230 | AE10: PR01
A11: PROFILE LOAD: | B11: =IF(OR($F$2="RH01",$F$2="RS00"),IF(B31<>"N/A",B31,IF(B32<>"N/A",B32,IF(B33<>"N/A",B33,IF(B34<>"N/A",B34,"N/A")))),B18) -> 0 | C11: =IF(OR($F$2="RH01",$F$2="RS00"),IF(C31<>"N/A",C31,IF(C32<>"N/A",C32,IF(C33<>"N/A",C33,IF(C34<>"N/A",C34,"N/A")))),C18) -> 0 | D11: =IF(OR($F$2="RH01",$F$2="RS00"),IF(D31<>"N/A",D31,IF(D32<>"N/A",D32,IF(D33<>"N/A",D33,IF(D34<>"N/A",D34,"N/A")))),D18) -> 0 | E11: =IF(OR($F$2="RH01",$F$2="RS00"),IF(E31<>"N/A",E31,IF(E32<>"N/A",E32,IF(E33<>"N/A",E33,IF(E34<>"N/A",E34,"N/A")))),E18) -> 0 | F11: =IF(OR($F$2="RH01",$F$2="RS00"),IF(F31<>"N/A",F31,IF(F32<>"N/A",F32,IF(F33<>"N/A",F33,IF(F34<>"N/A",F34,"N/A")))),F18) -> 0 | G11: =IF(OR($F$2="RH01",$F$2="RS00"),IF(G31<>"N/A",G31,IF(G32<>"N/A",G32,IF(G33<>"N/A",G33,IF(G34<>"N/A",G34,"N/A")))),G18) -> 0 | H11: =IF(OR($F$2="RH01",$F$2="RS00"),IF(H31<>"N/A",H31,IF(H32<>"N/A",H32,IF(H33<>"N/A",H33,IF(H34<>"N/A",H34,"N/A")))),H18) -> 0 | I11: =IF(OR($F$2="RH01",$F$2="RS00"),IF(I31<>"N/A",I31,IF(I32<>"N/A",I32,IF(I33<>"N/A",I33,IF(I34<>"N/A",I34,"N/A")))),I18) -> 0 | ... Y11: =IF(OR($F$2="RH01",$F$2="RS00"),IF(Y31<>"N/A",Y31,IF(Y32<>"N/A",Y32,IF(Y33<>"N/A",Y33,IF(Y34<>"N/A",Y34,"N/A")))),Y18) -> 0 | AC11: 39267 | AE11: PS01
AC12: 39328 | AE12: RH01
AC13: 39408 | AE13: RS00
AC14: 39441 | AE14: RS01
A15: ADJUSTED HOUR: | B15: 0 | C15: 1 | D15: 2 | E15: 3 | F15: 4 | G15: 5 | H15: 6 | I15: 7 | J15: 8 | K15: 9 | L15: 10 | M15: 11 | N15: 12 | O15: 13 | P15: 14 | Q15: 15 | R15: 16 | S15: 17 | T15: 18 | U15: 19 | V15: 20 | W15: 21 | X15: 22 | Y15: 23 | AC15: 39448 | AE15: RS02
AC16: 39594 | AE16: SC01
A17: No Weather Sensitivity: | AC17: 39633 | AE17: SS00
A18: REG_CONSTANT | B18: {=SUM(IF($F$2=Data!$A$2:$A$15051,IF($H$2=Data!$C$2:$C$15051,IF($K$2=Data!$D$2:$D$15051,IF(B$15=Data!$E$2:$E$15051,IF(B$9>Data!$I$2:$I$15051,IF(B$9<=Data!$J$2:$J$15051,Data!$F$2:$F$15051)))))))} -> 0 | C18: {=SUM(IF($F$2=Data!$A$2:$A$15051,IF($H$2=Data!$C$2:$C$15051,IF($K$2=Data!$D$2:$D$15051,IF(C$15=Data!$E$2:$E$15051,IF(C$9>Data!$I$2:$I$15051,IF(C$9<=Data!$J$2:$J$15051,Data!$F$2:$F$15051)))))))} -> 0 | D18: {=SUM(IF($F$2=Data!$A$2:$A$15051,IF($H$2=Data!$C$2:$C$15051,IF($K$2=Data!$D$2:$D$15051,IF(D$15=Data!$E$2:$E$15051,IF(D$9>Data!$I$2:$I$15051,IF(D$9<=Data!$J$2:$J$15051,Data!$F$2:$F$15051)))))))} -> 0 | E18: {=SUM(IF($F$2=Data!$A$2:$A$15051,IF($H$2=Data!$C$2:$C$15051,IF($K$2=Data!$D$2:$D$15051,IF(E$15=Data!$E$2:$E$15051,IF(E$9>Data!$I$2:$I$15051,IF(E$9<=Data!$J$2:$J$15051,Data!$F$2:$F$15051)))))))} -> 0 | F18: {=SUM(IF($F$2=Data!$A$2:$A$15051,IF($H$2=Data!$C$2:$C$15051,IF($K$2=Data!$D$2:$D$15051,IF(F$15=Data!$E$2:$E$15051,IF(F$9>Data!$I$2:$I$15051,IF(F$9<=Data!$J$2:$J$15051,Data!$F$2:$F$15051)))))))} -> 0 | G18: {=SUM(IF($F$2=Data!$A$2:$A$15051,IF($H$2=Data!$C$2:$C$15051,IF($K$2=Data!$D$2:$D$15051,IF(G$15=Data!$E$2:$E$15051,IF(G$9>Data!$I$2:$I$15051,IF(G$9<=Data!$J$2:$J$15051,Data!$F$2:$F$15051)))))))} -> 0 | H18: {=SUM(IF($F$2=Data!$A$2:$A$15051,IF($H$2=Data!$C$2:$C$15051,IF($K$2=Data!$D$2:$D$15051,IF(H$15=Data!$E$2:$E$15051,IF(H$9>Data!$I$2:$I$15051,IF(H$9<=Data!$J$2:$J$15051,Data!$F$2:$F$15051)))))))} -> 0 | I18: {=SUM(IF($F$2=Data!$A$2:$A$15051,IF($H$2=Data!$C$2:$C$15051,IF($K$2=Data!$D$2:$D$15051,IF(I$15=Data!$E$2:$E$15051,IF(I$9>Data!$I$2:$I$15051,IF(I$9<=Data!$J$2:$J$15051,Data!$F$2:$F$15051)))))))} -> 0 | ... X18: {=SUM(IF($F$2=Data!$A$2:$A$15051,IF($H$2=Data!$C$2:$C$15051,IF($K$2=Data!$D$2:$D$15051,IF(X$15=Data!$E$2:$E$15051,IF(X$9>Data!$I$2:$I$15051,IF(X$9<=Data!$J$2:$J$15051,Data!$F$2:$F$15051)))))))} -> 0 | Y18: {=SUM(IF($F$2=Data!$A$2:$A$15051,IF($H$2=Data!$C$2:$C$15051,IF($K$3=Data!$D$2:$D$15051,IF(Y$15=Data!$E$2:$E$15051,IF(Y$9>Data!$I$2:$I$15051,IF(Y$9<=Data!$J$2:$J$15051,Data!$F$2:$F$15051)))))))} -> 0 | AC18: 39692 | AE18: SS01
AC19: 39779 | AE19: SS02
A20: Weather Sensitivity (RH01/RS00): | AC20: 39807 | AE20: SS03
A21: REG_CONSTANT | B21: {=SUM(IF($F$2=Data!$A$2:$A$15051,IF($H$2=Data!$C$2:$C$15051,IF($K$2=Data!$D$2:$D$15051,IF(B$15=Data!$E$2:$E$15051,IF(B$9>Data!$I$2:$I$15051,IF(B$9<=Data!$J$2:$J$15051,Data!$F$2:$F$15051)))))))} -> 0 | C21: {=SUM(IF($F$2=Data!$A$2:$A$15051,IF($H$2=Data!$C$2:$C$15051,IF($K$2=Data!$D$2:$D$15051,IF(C$15=Data!$E$2:$E$15051,IF(C$9>Data!$I$2:$I$15051,IF(C$9<=Data!$J$2:$J$15051,Data!$F$2:$F$15051)))))))} -> 0 | D21: {=SUM(IF($F$2=Data!$A$2:$A$15051,IF($H$2=Data!$C$2:$C$15051,IF($K$2=Data!$D$2:$D$15051,IF(D$15=Data!$E$2:$E$15051,IF(D$9>Data!$I$2:$I$15051,IF(D$9<=Data!$J$2:$J$15051,Data!$F$2:$F$15051)))))))} -> 0 | E21: {=SUM(IF($F$2=Data!$A$2:$A$15051,IF($H$2=Data!$C$2:$C$15051,IF($K$2=Data!$D$2:$D$15051,IF(E$15=Data!$E$2:$E$15051,IF(E$9>Data!$I$2:$I$15051,IF(E$9<=Data!$J$2:$J$15051,Data!$F$2:$F$15051)))))))} -> 0 | F21: {=SUM(IF($F$2=Data!$A$2:$A$15051,IF($H$2=Data!$C$2:$C$15051,IF($K$2=Data!$D$2:$D$15051,IF(F$15=Data!$E$2:$E$15051,IF(F$9>Data!$I$2:$I$15051,IF(F$9<=Data!$J$2:$J$15051,Data!$F$2:$F$15051)))))))} -> 0 | G21: {=SUM(IF($F$2=Data!$A$2:$A$15051,IF($H$2=Data!$C$2:$C$15051,IF($K$2=Data!$D$2:$D$15051,IF(G$15=Data!$E$2:$E$15051,IF(G$9>Data!$I$2:$I$15051,IF(G$9<=Data!$J$2:$J$15051,Data!$F$2:$F$15051)))))))} -> 0 | H21: {=SUM(IF($F$2=Data!$A$2:$A$15051,IF($H$2=Data!$C$2:$C$15051,IF($K$2=Data!$D$2:$D$15051,IF(H$15=Data!$E$2:$E$15051,IF(H$9>Data!$I$2:$I$15051,IF(H$9<=Data!$J$2:$J$15051,Data!$F$2:$F$15051)))))))} -> 0 | I21: {=SUM(IF($F$2=Data!$A$2:$A$15051,IF($H$2=Data!$C$2:$C$15051,IF($K$2=Data!$D$2:$D$15051,IF(I$15=Data!$E$2:$E$15051,IF(I$9>Data!$I$2:$I$15051,IF(I$9<=Data!$J$2:$J$15051,Data!$F$2:$F$15051)))))))} -> 0 | ... X21: {=SUM(IF($F$2=Data!$A$2:$A$15051,IF($H$2=Data!$C$2:$C$15051,IF($K$2=Data!$D$2:$D$15051,IF(X$15=Data!$E$2:$E$15051,IF(X$9>Data!$I$2:$I$15051,IF(X$9<=Data!$J$2:$J$15051,Data!$F$2:$F$15051)))))))} -> 0 | Y21: {=SUM(IF($F$2=Data!$A$2:$A$15051,IF($H$2=Data!$C$2:$C$15051,IF($K$3=Data!$D$2:$D$15051,IF(Y$15=Data!$E$2:$E$15051,IF(Y$9>Data!$I$2:$I$15051,IF(Y$9<=Data!$J$2:$J$15051,Data!$F$2:$F$15051)))))))} -> 0 | AC21: 39814 | AE21: SS04
A22: COEF 1 | B22: {=SUM(IF($F$2=Data!$A$2:$A$15051,IF($H$2=Data!$C$2:$C$15051,IF($K$2=Data!$D$2:$D$15051,IF(B$15=Data!$E$2:$E$15051,IF(0=Data!$G$2:$G$15051,Data!$H$2:$H$15051))))))} -> 0 | C22: {=SUM(IF($F$2=Data!$A$2:$A$15051,IF($H$2=Data!$C$2:$C$15051,IF($K$2=Data!$D$2:$D$15051,IF(C$15=Data!$E$2:$E$15051,IF(0=Data!$G$2:$G$15051,Data!$H$2:$H$15051))))))} -> 0 | D22: {=SUM(IF($F$2=Data!$A$2:$A$15051,IF($H$2=Data!$C$2:$C$15051,IF($K$2=Data!$D$2:$D$15051,IF(D$15=Data!$E$2:$E$15051,IF(0=Data!$G$2:$G$15051,Data!$H$2:$H$15051))))))} -> 0 | E22: {=SUM(IF($F$2=Data!$A$2:$A$15051,IF($H$2=Data!$C$2:$C$15051,IF($K$2=Data!$D$2:$D$15051,IF(E$15=Data!$E$2:$E$15051,IF(0=Data!$G$2:$G$15051,Data!$H$2:$H$15051))))))} -> 0 | F22: {=SUM(IF($F$2=Data!$A$2:$A$15051,IF($H$2=Data!$C$2:$C$15051,IF($K$2=Data!$D$2:$D$15051,IF(F$15=Data!$E$2:$E$15051,IF(0=Data!$G$2:$G$15051,Data!$H$2:$H$15051))))))} -> 0 | G22: {=SUM(IF($F$2=Data!$A$2:$A$15051,IF($H$2=Data!$C$2:$C$15051,IF($K$2=Data!$D$2:$D$15051,IF(G$15=Data!$E$2:$E$15051,IF(0=Data!$G$2:$G$15051,Data!$H$2:$H$15051))))))} -> 0 | H22: {=SUM(IF($F$2=Data!$A$2:$A$15051,IF($H$2=Data!$C$2:$C$15051,IF($K$2=Data!$D$2:$D$15051,IF(H$15=Data!$E$2:$E$15051,IF(0=Data!$G$2:$G$15051,Data!$H$2:$H$15051))))))} -> 0 | I22: {=SUM(IF($F$2=Data!$A$2:$A$15051,IF($H$2=Data!$C$2:$C$15051,IF($K$2=Data!$D$2:$D$15051,IF(I$15=Data!$E$2:$E$15051,IF(0=Data!$G$2:$G$15051,Data!$H$2:$H$15051))))))} -> 0 | ... X22: {=SUM(IF($F$2=Data!$A$2:$A$15051,IF($H$2=Data!$C$2:$C$15051,IF($K$2=Data!$D$2:$D$15051,IF(X$15=Data!$E$2:$E$15051,IF(0=Data!$G$2:$G$15051,Data!$H$2:$H$15051))))))} -> 0 | Y22: {=SUM(IF($F$2=Data!$A$2:$A$15051,IF($H$2=Data!$C$2:$C$15051,IF($K$3=Data!$D$2:$D$15051,IF(Y$15=Data!$E$2:$E$15051,IF(0=Data!$G$2:$G$15051,Data!$H$2:$H$15051))))))} -> 0 | AC22: 39958 | AE22: SS05
A23: COEF 2 | B23: {=SUM(IF($F$2=Data!$A$2:$A$15051,IF($H$2=Data!$C$2:$C$15051,IF($K$2=Data!$D$2:$D$15051,IF(B$15=Data!$E$2:$E$15051,IF(1=Data!$G$2:$G$15051,Data!$H$2:$H$15051))))))} -> 0 | C23: {=SUM(IF($F$2=Data!$A$2:$A$15051,IF($H$2=Data!$C$2:$C$15051,IF($K$2=Data!$D$2:$D$15051,IF(C$15=Data!$E$2:$E$15051,IF(1=Data!$G$2:$G$15051,Data!$H$2:$H$15051))))))} -> 0 | D23: {=SUM(IF($F$2=Data!$A$2:$A$15051,IF($H$2=Data!$C$2:$C$15051,IF($K$2=Data!$D$2:$D$15051,IF(D$15=Data!$E$2:$E$15051,IF(1=Data!$G$2:$G$15051,Data!$H$2:$H$15051))))))} -> 0 | E23: {=SUM(IF($F$2=Data!$A$2:$A$15051,IF($H$2=Data!$C$2:$C$15051,IF($K$2=Data!$D$2:$D$15051,IF(E$15=Data!$E$2:$E$15051,IF(1=Data!$G$2:$G$15051,Data!$H$2:$H$15051))))))} -> 0 | F23: {=SUM(IF($F$2=Data!$A$2:$A$15051,IF($H$2=Data!$C$2:$C$15051,IF($K$2=Data!$D$2:$D$15051,IF(F$15=Data!$E$2:$E$15051,IF(1=Data!$G$2:$G$15051,Data!$H$2:$H$15051))))))} -> 0 | G23: {=SUM(IF($F$2=Data!$A$2:$A$15051,IF($H$2=Data!$C$2:$C$15051,IF($K$2=Data!$D$2:$D$15051,IF(G$15=Data!$E$2:$E$15051,IF(1=Data!$G$2:$G$15051,Data!$H$2:$H$15051))))))} -> 0 | H23: {=SUM(IF($F$2=Data!$A$2:$A$15051,IF($H$2=Data!$C$2:$C$15051,IF($K$2=Data!$D$2:$D$15051,IF(H$15=Data!$E$2:$E$15051,IF(1=Data!$G$2:$G$15051,Data!$H$2:$H$15051))))))} -> 0 | I23: {=SUM(IF($F$2=Data!$A$2:$A$15051,IF($H$2=Data!$C$2:$C$15051,IF($K$2=Data!$D$2:$D$15051,IF(I$15=Data!$E$2:$E$15051,IF(1=Data!$G$2:$G$15051,Data!$H$2:$H$15051))))))} -> 0 | ... X23: {=SUM(IF($F$2=Data!$A$2:$A$15051,IF($H$2=Data!$C$2:$C$15051,IF($K$2=Data!$D$2:$D$15051,IF(X$15=Data!$E$2:$E$15051,IF(1=Data!$G$2:$G$15051,Data!$H$2:$H$15051))))))} -> 0 | Y23: {=SUM(IF($F$2=Data!$A$2:$A$15051,IF($H$2=Data!$C$2:$C$15051,IF($K$3=Data!$D$2:$D$15051,IF(Y$15=Data!$E$2:$E$15051,IF(1=Data!$G$2:$G$15051,Data!$H$2:$H$15051))))))} -> 0 | AC23: 39997 | AE23: SS06
A24: COEF 3 | B24: {=SUM(IF($F$2=Data!$A$2:$A$15051,IF($H$2=Data!$C$2:$C$15051,IF($K$2=Data!$D$2:$D$15051,IF(B$15=Data!$E$2:$E$15051,IF(2=Data!$G$2:$G$15051,Data!$H$2:$H$15051))))))} -> 0 | C24: {=SUM(IF($F$2=Data!$A$2:$A$15051,IF($H$2=Data!$C$2:$C$15051,IF($K$2=Data!$D$2:$D$15051,IF(C$15=Data!$E$2:$E$15051,IF(2=Data!$G$2:$G$15051,Data!$H$2:$H$15051))))))} -> 0 | D24: {=SUM(IF($F$2=Data!$A$2:$A$15051,IF($H$2=Data!$C$2:$C$15051,IF($K$2=Data!$D$2:$D$15051,IF(D$15=Data!$E$2:$E$15051,IF(2=Data!$G$2:$G$15051,Data!$H$2:$H$15051))))))} -> 0 | E24: {=SUM(IF($F$2=Data!$A$2:$A$15051,IF($H$2=Data!$C$2:$C$15051,IF($K$2=Data!$D$2:$D$15051,IF(E$15=Data!$E$2:$E$15051,IF(2=Data!$G$2:$G$15051,Data!$H$2:$H$15051))))))} -> 0 | F24: {=SUM(IF($F$2=Data!$A$2:$A$15051,IF($H$2=Data!$C$2:$C$15051,IF($K$2=Data!$D$2:$D$15051,IF(F$15=Data!$E$2:$E$15051,IF(2=Data!$G$2:$G$15051,Data!$H$2:$H$15051))))))} -> 0 | G24: {=SUM(IF($F$2=Data!$A$2:$A$15051,IF($H$2=Data!$C$2:$C$15051,IF($K$2=Data!$D$2:$D$15051,IF(G$15=Data!$E$2:$E$15051,IF(2=Data!$G$2:$G$15051,Data!$H$2:$H$15051))))))} -> 0 | H24: {=SUM(IF($F$2=Data!$A$2:$A$15051,IF($H$2=Data!$C$2:$C$15051,IF($K$2=Data!$D$2:$D$15051,IF(H$15=Data!$E$2:$E$15051,IF(2=Data!$G$2:$G$15051,Data!$H$2:$H$15051))))))} -> 0 | I24: {=SUM(IF($F$2=Data!$A$2:$A$15051,IF($H$2=Data!$C$2:$C$15051,IF($K$2=Data!$D$2:$D$15051,IF(I$15=Data!$E$2:$E$15051,IF(2=Data!$G$2:$G$15051,Data!$H$2:$H$15051))))))} -> 0 | ... X24: {=SUM(IF($F$2=Data!$A$2:$A$15051,IF($H$2=Data!$C$2:$C$15051,IF($K$2=Data!$D$2:$D$15051,IF(X$15=Data!$E$2:$E$15051,IF(2=Data!$G$2:$G$15051,Data!$H$2:$H$15051))))))} -> 0 | Y24: {=SUM(IF($F$2=Data!$A$2:$A$15051,IF($H$2=Data!$C$2:$C$15051,IF($K$3=Data!$D$2:$D$15051,IF(Y$15=Data!$E$2:$E$15051,IF(2=Data!$G$2:$G$15051,Data!$H$2:$H$15051))))))} -> 0 | AC24: 40063 | AE24: SL01
A25: COEF 4 | B25: {=SUM(IF($F$2=Data!$A$2:$A$15051,IF($H$2=Data!$C$2:$C$15051,IF($K$2=Data!$D$2:$D$15051,IF(B$15=Data!$E$2:$E$15051,IF(3=Data!$G$2:$G$15051,Data!$H$2:$H$15051))))))} -> 0 | C25: {=SUM(IF($F$2=Data!$A$2:$A$15051,IF($H$2=Data!$C$2:$C$15051,IF($K$2=Data!$D$2:$D$15051,IF(C$15=Data!$E$2:$E$15051,IF(3=Data!$G$2:$G$15051,Data!$H$2:$H$15051))))))} -> 0 | D25: {=SUM(IF($F$2=Data!$A$2:$A$15051,IF($H$2=Data!$C$2:$C$15051,IF($K$2=Data!$D$2:$D$15051,IF(D$15=Data!$E$2:$E$15051,IF(3=Data!$G$2:$G$15051,Data!$H$2:$H$15051))))))} -> 0 | E25: {=SUM(IF($F$2=Data!$A$2:$A$15051,IF($H$2=Data!$C$2:$C$15051,IF($K$2=Data!$D$2:$D$15051,IF(E$15=Data!$E$2:$E$15051,IF(3=Data!$G$2:$G$15051,Data!$H$2:$H$15051))))))} -> 0 | F25: {=SUM(IF($F$2=Data!$A$2:$A$15051,IF($H$2=Data!$C$2:$C$15051,IF($K$2=Data!$D$2:$D$15051,IF(F$15=Data!$E$2:$E$15051,IF(3=Data!$G$2:$G$15051,Data!$H$2:$H$15051))))))} -> 0 | G25: {=SUM(IF($F$2=Data!$A$2:$A$15051,IF($H$2=Data!$C$2:$C$15051,IF($K$2=Data!$D$2:$D$15051,IF(G$15=Data!$E$2:$E$15051,IF(3=Data!$G$2:$G$15051,Data!$H$2:$H$15051))))))} -> 0 | H25: {=SUM(IF($F$2=Data!$A$2:$A$15051,IF($H$2=Data!$C$2:$C$15051,IF($K$2=Data!$D$2:$D$15051,IF(H$15=Data!$E$2:$E$15051,IF(3=Data!$G$2:$G$15051,Data!$H$2:$H$15051))))))} -> 0 | I25: {=SUM(IF($F$2=Data!$A$2:$A$15051,IF($H$2=Data!$C$2:$C$15051,IF($K$2=Data!$D$2:$D$15051,IF(I$15=Data!$E$2:$E$15051,IF(3=Data!$G$2:$G$15051,Data!$H$2:$H$15051))))))} -> 0 | ... X25: {=SUM(IF($F$2=Data!$A$2:$A$15051,IF($H$2=Data!$C$2:$C$15051,IF($K$2=Data!$D$2:$D$15051,IF(X$15=Data!$E$2:$E$15051,IF(3=Data!$G$2:$G$15051,Data!$H$2:$H$15051))))))} -> 0 | Y25: {=SUM(IF($F$2=Data!$A$2:$A$15051,IF($H$2=Data!$C$2:$C$15051,IF($K$3=Data!$D$2:$D$15051,IF(Y$15=Data!$E$2:$E$15051,IF(3=Data!$G$2:$G$15051,Data!$H$2:$H$15051))))))} -> 0 | AC25: 40143 | AE25: TS01
A26: BP 1 | B26: {=SUM(IF($F$2=Data!$A$2:$A$15051,IF($H$2=Data!$C$2:$C$15051,IF($K$2=Data!$D$2:$D$15051,IF(B$15=Data!$E$2:$E$15051,IF(0=Data!$G$2:$G$15051,Data!$J$2:$J$15051))))))} -> 0 | C26: {=SUM(IF($F$2=Data!$A$2:$A$15051,IF($H$2=Data!$C$2:$C$15051,IF($K$2=Data!$D$2:$D$15051,IF(C$15=Data!$E$2:$E$15051,IF(0=Data!$G$2:$G$15051,Data!$J$2:$J$15051))))))} -> 0 | D26: {=SUM(IF($F$2=Data!$A$2:$A$15051,IF($H$2=Data!$C$2:$C$15051,IF($K$2=Data!$D$2:$D$15051,IF(D$15=Data!$E$2:$E$15051,IF(0=Data!$G$2:$G$15051,Data!$J$2:$J$15051))))))} -> 0 | E26: {=SUM(IF($F$2=Data!$A$2:$A$15051,IF($H$2=Data!$C$2:$C$15051,IF($K$2=Data!$D$2:$D$15051,IF(E$15=Data!$E$2:$E$15051,IF(0=Data!$G$2:$G$15051,Data!$J$2:$J$15051))))))} -> 0 | F26: {=SUM(IF($F$2=Data!$A$2:$A$15051,IF($H$2=Data!$C$2:$C$15051,IF($K$2=Data!$D$2:$D$15051,IF(F$15=Data!$E$2:$E$15051,IF(0=Data!$G$2:$G$15051,Data!$J$2:$J$15051))))))} -> 0 | G26: {=SUM(IF($F$2=Data!$A$2:$A$15051,IF($H$2=Data!$C$2:$C$15051,IF($K$2=Data!$D$2:$D$15051,IF(G$15=Data!$E$2:$E$15051,IF(0=Data!$G$2:$G$15051,Data!$J$2:$J$15051))))))} -> 0 | H26: {=SUM(IF($F$2=Data!$A$2:$A$15051,IF($H$2=Data!$C$2:$C$15051,IF($K$2=Data!$D$2:$D$15051,IF(H$15=Data!$E$2:$E$15051,IF(0=Data!$G$2:$G$15051,Data!$J$2:$J$15051))))))} -> 0 | I26: {=SUM(IF($F$2=Data!$A$2:$A$15051,IF($H$2=Data!$C$2:$C$15051,IF($K$2=Data!$D$2:$D$15051,IF(I$15=Data!$E$2:$E$15051,IF(0=Data!$G$2:$G$15051,Data!$J$2:$J$15051))))))} -> 0 | ... X26: {=SUM(IF($F$2=Data!$A$2:$A$15051,IF($H$2=Data!$C$2:$C$15051,IF($K$2=Data!$D$2:$D$15051,IF(X$15=Data!$E$2:$E$15051,IF(0=Data!$G$2:$G$15051,Data!$J$2:$J$15051))))))} -> 0 | Y26: {=SUM(IF($F$2=Data!$A$2:$A$15051,IF($H$2=Data!$C$2:$C$15051,IF($K$3=Data!$D$2:$D$15051,IF(Y$15=Data!$E$2:$E$15051,IF(0=Data!$G$2:$G$15051,Data!$J$2:$J$15051))))))} -> 0 | AC26: 40172
A27: BP 2 | B27: {=SUM(IF($F$2=Data!$A$2:$A$15051,IF($H$2=Data!$C$2:$C$15051,IF($K$2=Data!$D$2:$D$15051,IF(B$15=Data!$E$2:$E$15051,IF(1=Data!$G$2:$G$15051,Data!$J$2:$J$15051))))))} -> 0 | C27: {=SUM(IF($F$2=Data!$A$2:$A$15051,IF($H$2=Data!$C$2:$C$15051,IF($K$2=Data!$D$2:$D$15051,IF(C$15=Data!$E$2:$E$15051,IF(1=Data!$G$2:$G$15051,Data!$J$2:$J$15051))))))} -> 0 | D27: {=SUM(IF($F$2=Data!$A$2:$A$15051,IF($H$2=Data!$C$2:$C$15051,IF($K$2=Data!$D$2:$D$15051,IF(D$15=Data!$E$2:$E$15051,IF(1=Data!$G$2:$G$15051,Data!$J$2:$J$15051))))))} -> 0 | E27: {=SUM(IF($F$2=Data!$A$2:$A$15051,IF($H$2=Data!$C$2:$C$15051,IF($K$2=Data!$D$2:$D$15051,IF(E$15=Data!$E$2:$E$15051,IF(1=Data!$G$2:$G$15051,Data!$J$2:$J$15051))))))} -> 0 | F27: {=SUM(IF($F$2=Data!$A$2:$A$15051,IF($H$2=Data!$C$2:$C$15051,IF($K$2=Data!$D$2:$D$15051,IF(F$15=Data!$E$2:$E$15051,IF(1=Data!$G$2:$G$15051,Data!$J$2:$J$15051))))))} -> 0 | G27: {=SUM(IF($F$2=Data!$A$2:$A$15051,IF($H$2=Data!$C$2:$C$15051,IF($K$2=Data!$D$2:$D$15051,IF(G$15=Data!$E$2:$E$15051,IF(1=Data!$G$2:$G$15051,Data!$J$2:$J$15051))))))} -> 0 | H27: {=SUM(IF($F$2=Data!$A$2:$A$15051,IF($H$2=Data!$C$2:$C$15051,IF($K$2=Data!$D$2:$D$15051,IF(H$15=Data!$E$2:$E$15051,IF(1=Data!$G$2:$G$15051,Data!$J$2:$J$15051))))))} -> 0 | I27: {=SUM(IF($F$2=Data!$A$2:$A$15051,IF($H$2=Data!$C$2:$C$15051,IF($K$2=Data!$D$2:$D$15051,IF(I$15=Data!$E$2:$E$15051,IF(1=Data!$G$2:$G$15051,Data!$J$2:$J$15051))))))} -> 0 | ... X27: {=SUM(IF($F$2=Data!$A$2:$A$15051,IF($H$2=Data!$C$2:$C$15051,IF($K$2=Data!$D$2:$D$15051,IF(X$15=Data!$E$2:$E$15051,IF(1=Data!$G$2:$G$15051,Data!$J$2:$J$15051))))))} -> 0 | Y27: {=SUM(IF($F$2=Data!$A$2:$A$15051,IF($H$2=Data!$C$2:$C$15051,IF($K$3=Data!$D$2:$D$15051,IF(Y$15=Data!$E$2:$E$15051,IF(1=Data!$G$2:$G$15051,Data!$J$2:$J$15051))))))} -> 0 | AC27: 40179
A28: BP 3 | B28: {=SUM(IF($F$2=Data!$A$2:$A$15051,IF($H$2=Data!$C$2:$C$15051,IF($K$2=Data!$D$2:$D$15051,IF(B$15=Data!$E$2:$E$15051,IF(2=Data!$G$2:$G$15051,Data!$J$2:$J$15051))))))} -> 0 | C28: {=SUM(IF($F$2=Data!$A$2:$A$15051,IF($H$2=Data!$C$2:$C$15051,IF($K$2=Data!$D$2:$D$15051,IF(C$15=Data!$E$2:$E$15051,IF(2=Data!$G$2:$G$15051,Data!$J$2:$J$15051))))))} -> 0 | D28: {=SUM(IF($F$2=Data!$A$2:$A$15051,IF($H$2=Data!$C$2:$C$15051,IF($K$2=Data!$D$2:$D$15051,IF(D$15=Data!$E$2:$E$15051,IF(2=Data!$G$2:$G$15051,Data!$J$2:$J$15051))))))} -> 0 | E28: {=SUM(IF($F$2=Data!$A$2:$A$15051,IF($H$2=Data!$C$2:$C$15051,IF($K$2=Data!$D$2:$D$15051,IF(E$15=Data!$E$2:$E$15051,IF(2=Data!$G$2:$G$15051,Data!$J$2:$J$15051))))))} -> 0 | F28: {=SUM(IF($F$2=Data!$A$2:$A$15051,IF($H$2=Data!$C$2:$C$15051,IF($K$2=Data!$D$2:$D$15051,IF(F$15=Data!$E$2:$E$15051,IF(2=Data!$G$2:$G$15051,Data!$J$2:$J$15051))))))} -> 0 | G28: {=SUM(IF($F$2=Data!$A$2:$A$15051,IF($H$2=Data!$C$2:$C$15051,IF($K$2=Data!$D$2:$D$15051,IF(G$15=Data!$E$2:$E$15051,IF(2=Data!$G$2:$G$15051,Data!$J$2:$J$15051))))))} -> 0 | H28: {=SUM(IF($F$2=Data!$A$2:$A$15051,IF($H$2=Data!$C$2:$C$15051,IF($K$2=Data!$D$2:$D$15051,IF(H$15=Data!$E$2:$E$15051,IF(2=Data!$G$2:$G$15051,Data!$J$2:$J$15051))))))} -> 0 | I28: {=SUM(IF($F$2=Data!$A$2:$A$15051,IF($H$2=Data!$C$2:$C$15051,IF($K$2=Data!$D$2:$D$15051,IF(I$15=Data!$E$2:$E$15051,IF(2=Data!$G$2:$G$15051,Data!$J$2:$J$15051))))))} -> 0 | ... X28: {=SUM(IF($F$2=Data!$A$2:$A$15051,IF($H$2=Data!$C$2:$C$15051,IF($K$2=Data!$D$2:$D$15051,IF(X$15=Data!$E$2:$E$15051,IF(2=Data!$G$2:$G$15051,Data!$J$2:$J$15051))))))} -> 0 | Y28: {=SUM(IF($F$2=Data!$A$2:$A$15051,IF($H$2=Data!$C$2:$C$15051,IF($K$3=Data!$D$2:$D$15051,IF(Y$15=Data!$E$2:$E$15051,IF(2=Data!$G$2:$G$15051,Data!$J$2:$J$15051))))))} -> 0 | AC28: 40329
A29: BP 4 | B29: {=SUM(IF($F$2=Data!$A$2:$A$15051,IF($H$2=Data!$C$2:$C$15051,IF($K$2=Data!$D$2:$D$15051,IF(B$15=Data!$E$2:$E$15051,IF(3=Data!$G$2:$G$15051,Data!$J$2:$J$15051))))))} -> 0 | C29: {=SUM(IF($F$2=Data!$A$2:$A$15051,IF($H$2=Data!$C$2:$C$15051,IF($K$2=Data!$D$2:$D$15051,IF(C$15=Data!$E$2:$E$15051,IF(3=Data!$G$2:$G$15051,Data!$J$2:$J$15051))))))} -> 0 | D29: {=SUM(IF($F$2=Data!$A$2:$A$15051,IF($H$2=Data!$C$2:$C$15051,IF($K$2=Data!$D$2:$D$15051,IF(D$15=Data!$E$2:$E$15051,IF(3=Data!$G$2:$G$15051,Data!$J$2:$J$15051))))))} -> 0 | E29: {=SUM(IF($F$2=Data!$A$2:$A$15051,IF($H$2=Data!$C$2:$C$15051,IF($K$2=Data!$D$2:$D$15051,IF(E$15=Data!$E$2:$E$15051,IF(3=Data!$G$2:$G$15051,Data!$J$2:$J$15051))))))} -> 0 | F29: {=SUM(IF($F$2=Data!$A$2:$A$15051,IF($H$2=Data!$C$2:$C$15051,IF($K$2=Data!$D$2:$D$15051,IF(F$15=Data!$E$2:$E$15051,IF(3=Data!$G$2:$G$15051,Data!$J$2:$J$15051))))))} -> 0 | G29: {=SUM(IF($F$2=Data!$A$2:$A$15051,IF($H$2=Data!$C$2:$C$15051,IF($K$2=Data!$D$2:$D$15051,IF(G$15=Data!$E$2:$E$15051,IF(3=Data!$G$2:$G$15051,Data!$J$2:$J$15051))))))} -> 0 | H29: {=SUM(IF($F$2=Data!$A$2:$A$15051,IF($H$2=Data!$C$2:$C$15051,IF($K$2=Data!$D$2:$D$15051,IF(H$15=Data!$E$2:$E$15051,IF(3=Data!$G$2:$G$15051,Data!$J$2:$J$15051))))))} -> 0 | I29: {=SUM(IF($F$2=Data!$A$2:$A$15051,IF($H$2=Data!$C$2:$C$15051,IF($K$2=Data!$D$2:$D$15051,IF(I$15=Data!$E$2:$E$15051,IF(3=Data!$G$2:$G$15051,Data!$J$2:$J$15051))))))} -> 0 | ... X29: {=SUM(IF($F$2=Data!$A$2:$A$15051,IF($H$2=Data!$C$2:$C$15051,IF($K$2=Data!$D$2:$D$15051,IF(X$15=Data!$E$2:$E$15051,IF(3=Data!$G$2:$G$15051,Data!$J$2:$J$15051))))))} -> 0 | Y29: {=SUM(IF($F$2=Data!$A$2:$A$15051,IF($H$2=Data!$C$2:$C$15051,IF($K$3=Data!$D$2:$D$15051,IF(Y$15=Data!$E$2:$E$15051,IF(3=Data!$G$2:$G$15051,Data!$J$2:$J$15051))))))} -> 0 | AC29: 40364
AC30: 40427
A31: L1 EST PROF | B31: =IF(B$9<B26,B21+B$9*B22,"N/A") -> N/A | C31: =IF(C$9<C26,C21+C$9*C22,"N/A") -> N/A | D31: =IF(D$9<D26,D21+D$9*D22,"N/A") -> N/A | E31: =IF(E$9<E26,E21+E$9*E22,"N/A") -> N/A | F31: =IF(F$9<F26,F21+F$9*F22,"N/A") -> N/A | G31: =IF(G$9<G26,G21+G$9*G22,"N/A") -> N/A | H31: =IF(H$9<H26,H21+H$9*H22,"N/A") -> N/A | I31: =IF(I$9<I26,I21+I$9*I22,"N/A") -> N/A | ... Y31: =IF(Y$9<Y26,Y21+Y$9*Y22,"N/A") -> N/A | AC31: 40507
A32: L2 EST PROF | B32: =IF(AND(B26<>0,B26<B$9,B$9<B27),B21+B$9*B22+(B$9-B26)*B23,"N/A") -> N/A | C32: =IF(AND(C26<>0,C26<C$9,C$9<C27),C21+C$9*C22+(C$9-C26)*C23,"N/A") -> N/A | D32: =IF(AND(D26<>0,D26<D$9,D$9<D27),D21+D$9*D22+(D$9-D26)*D23,"N/A") -> N/A | E32: =IF(AND(E26<>0,E26<E$9,E$9<E27),E21+E$9*E22+(E$9-E26)*E23,"N/A") -> N/A | F32: =IF(AND(F26<>0,F26<F$9,F$9<F27),F21+F$9*F22+(F$9-F26)*F23,"N/A") -> N/A | G32: =IF(AND(G26<>0,G26<G$9,G$9<G27),G21+G$9*G22+(G$9-G26)*G23,"N/A") -> N/A | H32: =IF(AND(H26<>0,H26<H$9,H$9<H27),H21+H$9*H22+(H$9-H26)*H23,"N/A") -> N/A | I32: =IF(AND(I26<>0,I26<I$9,I$9<I27),I21+I$9*I22+(I$9-I26)*I23,"N/A") -> N/A | ... Y32: =IF(AND(Y26<>0,Y26<Y$9,Y$9<Y27),Y21+Y$9*Y22+(Y$9-Y26)*Y23,"N/A") -> N/A | AC32: 40536
A33: L3 EST PROF | B33: =IF(AND(B27<>0,B27<B$9,B$9<B28),B21+B$9*B22+(B$9-B26)*B23+(B$9-B27)*B24,"N/A") -> N/A | C33: =IF(AND(C27<>0,C27<C$9,C$9<C28),C21+C$9*C22+(C$9-C26)*C23+(C$9-C27)*C24,"N/A") -> N/A | D33: =IF(AND(D27<>0,D27<D$9,D$9<D28),D21+D$9*D22+(D$9-D26)*D23+(D$9-D27)*D24,"N/A") -> N/A | E33: =IF(AND(E27<>0,E27<E$9,E$9<E28),E21+E$9*E22+(E$9-E26)*E23+(E$9-E27)*E24,"N/A") -> N/A | F33: =IF(AND(F27<>0,F27<F$9,F$9<F28),F21+F$9*F22+(F$9-F26)*F23+(F$9-F27)*F24,"N/A") -> N/A | G33: =IF(AND(G27<>0,G27<G$9,G$9<G28),G21+G$9*G22+(G$9-G26)*G23+(G$9-G27)*G24,"N/A") -> N/A | H33: =IF(AND(H27<>0,H27<H$9,H$9<H28),H21+H$9*H22+(H$9-H26)*H23+(H$9-H27)*H24,"N/A") -> N/A | I33: =IF(AND(I27<>0,I27<I$9,I$9<I28),I21+I$9*I22+(I$9-I26)*I23+(I$9-I27)*I24,"N/A") -> N/A | ... Y33: =IF(AND(Y27<>0,Y27<Y$9,Y$9<Y28),Y21+Y$9*Y22+(Y$9-Y26)*Y23+(Y$9-Y27)*Y24,"N/A") -> N/A | AC33: 40543
A34: L4 EST PROF | B34: =IF(AND(B28<>0,B28<B$9,B$9<B29),B21+B$9*B22+(B$9-B26)*B23+(B$9-B27)*B24+(B$9-B28)*B25,"N/A") -> N/A | C34: =IF(AND(C28<>0,C28<C$9,C$9<C29),C21+C$9*C22+(C$9-C26)*C23+(C$9-C27)*C24+(C$9-C28)*C25,"N/A") -> N/A | D34: =IF(AND(D28<>0,D28<D$9,D$9<D29),D21+D$9*D22+(D$9-D26)*D23+(D$9-D27)*D24+(D$9-D28)*D25,"N/A") -> N/A | E34: =IF(AND(E28<>0,E28<E$9,E$9<E29),E21+E$9*E22+(E$9-E26)*E23+(E$9-E27)*E24+(E$9-E28)*E25,"N/A") -> N/A | F34: =IF(AND(F28<>0,F28<F$9,F$9<F29),F21+F$9*F22+(F$9-F26)*F23+(F$9-F27)*F24+(F$9-F28)*F25,"N/A") -> N/A | G34: =IF(AND(G28<>0,G28<G$9,G$9<G29),G21+G$9*G22+(G$9-G26)*G23+(G$9-G27)*G24+(G$9-G28)*G25,"N/A") -> N/A | H34: =IF(AND(H28<>0,H28<H$9,H$9<H29),H21+H$9*H22+(H$9-H26)*H23+(H$9-H27)*H24+(H$9-H28)*H25,"N/A") -> N/A | I34: =IF(AND(I28<>0,I28<I$9,I$9<I29),I21+I$9*I22+(I$9-I26)*I23+(I$9-I27)*I24+(I$9-I28)*I25,"N/A") -> N/A | ... Y34: =IF(AND(Y28<>0,Y28<Y$9,Y$9<Y29),Y21+Y$9*Y22+(Y$9-Y26)*Y23+(Y$9-Y27)*Y24+(Y$9-Y28)*Y25,"N/A") -> N/A | AC34: 40693
AC35: 40728
B36: HOLIDAY? | E36: EDT FALLBACK HOUR: | H36: 1 | I36: JANUARY | AC36: 40791
B37: =IF(ISNA(MATCH($D$2,$AC$9:$AC$86,FALSE))=TRUE,"N","Y") -> N | F37: DAY TYPE | H37: 2 | I37: FEBRUARY | AC37: 40871
F38: =IF(Y15=0,IF(OR(WEEKDAY($D$2+1)=1,F41="Y"),"SUNDAY/HOLIDAY",IF(OR(WEEKDAY($D$2+1)=2,WEEKDAY($D$2+1)=3,WEEKDAY($D$2+1)=4,WEEKDAY($D$2+1)=5,WEEKDAY($D$2+1)=6),"WEEKDAY",IF(WEEKDAY($D$2+1)=7,"SATURDAY",""))),IF(OR(WEEKDAY($D$2)=1,F41="Y"),"SUNDAY/HOLIDAY",IF(OR(WEEKDAY($D$2)=2,WEEKDAY($D$2)=3,WEEKDAY($D$2)=4,WEEKDAY($D$2)=5,WEEKDAY($D$2)=6),"WEEKDAY",IF(WEEKDAY($D$2)=7,"SATURDAY","")))) -> SATURDAY | H38: 3 | I38: MARCH | AC38: 40903
B39: EST? | H39: 4 | I39: APRIL | AC39: 40910
B40: =--OR((MONTH(D2)<=3)*(D2<DATE(YEAR(D2),3,7-WEEKDAY(DATE(YEAR(D2),3,1),2)+8)),(MONTH(D2)>=11)*(D2>DATE(YEAR(D2),11,7-WEEKDAY(DATE(YEAR(D2),11,1),2)+1))) -> 1 | F40: HOLIDAY? | H40: 5 | I40: MAY | AC40: 41057
F41: =IF(Y15=0,IF(ISNA(MATCH($D$2+1,$AC$9:$AC$86,FALSE))=TRUE,"N","Y"),IF(ISNA(MATCH($D$2,$AC$9:$AC$86,FALSE))=TRUE,"N","Y")) -> N | H41: 6 | I41: JUNE | AC41: 41094
B42: EDT CHG: MARCH? | H42: 7 | I42: JULY | AC42: 41155
B43: =--(D2=DATE(YEAR(D2),3,7-WEEKDAY(DATE(YEAR(D2),3,1),2)+8)) -> 0 | H43: 8 | I43: AUGUST | AC43: 41235
H44: 9 | I44: SEPTEMBER | AC44: 41268
B45: EDT CHG: NOVEMBER? | H45: 10 | I45: OCTOBER | AC45: 41275
B46: =--(D2=DATE(YEAR(D2),11,7-WEEKDAY(DATE(YEAR(D2),11,1),2)+1)) -> 0 | H46: 11 | I46: NOVEMBER | AC46: 41421
H47: 12 | I47: DECEMBER | AC47: 41459
AC48: 41519
A49: Instructions: | AC49: 41633
B50: 1) Enter the date into cell D2 | AC50: 41640
B51: 2) Select the profile from the drop-down list in cell F2 | AC51: 41785
B52: 3) Input the forecasted temperatures into the range B9:Y9 | AC52: 41824
B53: 4) Find the weather-normalized profile raw load values in row 11 | AC53: 41883
AC54: 41970
A55: Disclaimer: | AC55: 41998
B56: Use of the attached profiling tool is not required by DP&L in order for you to project loads on DP&L's distribution system. Other profiling tools are available for this purpose and you are encouraged to investigate them. DP&L is not making this tool available for any particular purpose and makes no representations or warranties regarding the use of this tool or conclusions that may result from use of this tool. It is based on an average of distribution system data, is subject to interpretation and does not reflect the projected load of any particular customer. The user accepts full responsibility for any action or forbearances undertaken based on or in connection with use of the attached tool. The user hereby releases and discharges DP&L from any liability, and agrees to indemnify and hold DP&L harmless from any costs, expenses, or liabilities incurred by DP&L, user or any third party, arising from or relating to the user's use of the profiling tool. | AC56: 42005
AC57: 42149
AC58: 42188
AC59: 42254
AC60: 42334
AC61: 42363
AC62: 42370
AC63: 42520
AC64: 42555
AC65: 42618
AC66: 42698
AC67: 42730
AC68: 42737
... AC86: 43831

Sheet Data
A1: PROFILE_KEY1_LU | B1: PROFILE_METHOD | C1: SEASON_TCD | D1: DAY_TCD | E1: STARTING_INTERVAL | F1: REG_CONSTANT | G1: BREAKPOINT_NUM | H1: COEF | I1: Tmin | J1: Tmax
A2: HV01 | B2: DPL_12_SEASON_HOURLY_NO_WEATHER | C2: JANUARY | D2: SATURDAY | E2: 0 | F2: 1128.0053 | G2: 0 | H2: 0 | I2: -50 | J2: 150
A3: HV01 | B3: DPL_12_SEASON_HOURLY_NO_WEATHER | C3: JANUARY | D3: SATURDAY | E3: 1 | F3: 1087.485 | G3: 0 | H3: 0 | I3: -50 | J3: 150
A4: HV01 | B4: DPL_12_SEASON_HOURLY_NO_WEATHER | C4: JANUARY | D4: SATURDAY | E4: 2 | F4: 1072.5361 | G4: 0 | H4: 0 | I4: -50 | J4: 150
A5: HV01 | B5: DPL_12_SEASON_HOURLY_NO_WEATHER | C5: JANUARY | D5: SATURDAY | E5: 3 | F5: 1062.5986 | G5: 0 | H5: 0 | I5: -50 | J5: 150
A6: HV01 | B6: DPL_12_SEASON_HOURLY_NO_WEATHER | C6: JANUARY | D6: SATURDAY | E6: 4 | F6: 1061.0873 | G6: 0 | H6: 0 | I6: -50 | J6: 150
A7: HV01 | B7: DPL_12_SEASON_HOURLY_NO_WEATHER | C7: JANUARY | D7: SATURDAY | E7: 5 | F7: 1072.1758 | G7: 0 | H7: 0 | I7: -50 | J7: 150
A8: HV01 | B8: DPL_12_SEASON_HOURLY_NO_WEATHER | C8: JANUARY | D8: SATURDAY | E8: 6 | F8: 1106.7933 | G8: 0 | H8: 0 | I8: -50 | J8: 150
A9: HV01 | B9: DPL_12_SEASON_HOURLY_NO_WEATHER | C9: JANUARY | D9: SATURDAY | E9: 7 | F9: 1134.4806 | G9: 0 | H9: 0 | I9: -50 | J9: 150
A10: HV01 | B10: DPL_12_SEASON_HOURLY_NO_WEATHER | C10: JANUARY | D10: SATURDAY | E10: 8 | F10: 1137.0133 | G10: 0 | H10: 0 | I10: -50 | J10: 150
A11: HV01 | B11: DPL_12_SEASON_HOURLY_NO_WEATHER | C11: JANUARY | D11: SATURDAY | E11: 9 | F11: 1140.7326 | G11: 0 | H11: 0 | I11: -50 | J11: 150
A12: HV01 | B12: DPL_12_SEASON_HOURLY_NO_WEATHER | C12: JANUARY | D12: SATURDAY | E12: 10 | F12: 1147.7364 | G12: 0 | H12: 0 | I12: -50 | J12: 150
A13: HV01 | B13: DPL_12_SEASON_HOURLY_NO_WEATHER | C13: JANUARY | D13: SATURDAY | E13: 11 | F13: 1131.4592 | G13: 0 | H13: 0 | I13: -50 | J13: 150
... A15051: TS01 | B15051: DPL_CONSTANT | C15051: DECEMBER | D15051: WEEKDAY | E15051: 23 | F15051: 0.76515145 | G15051: 0 | H15051: 0 | I15051: -50 | J15051: 150
